BEGIN:VCALENDAR
VERSION:2.0
PRODID:-//Cardio - ECPv6.15.14//NONSGML v1.0//EN
CALSCALE:GREGORIAN
METHOD:PUBLISH
X-WR-CALNAME:Cardio
X-ORIGINAL-URL:https://seugostoso.com.br
X-WR-CALDESC:Eventos para Cardio
REFRESH-INTERVAL;VALUE=DURATION:PT1H
X-Robots-Tag:noindex
X-PUBLISHED-TTL:PT1H
BEGIN:VTIMEZONE
TZID:America/Sao_Paulo
BEGIN:STANDARD
TZOFFSETFROM:-0300
TZOFFSETTO:-0300
TZNAME:-03
DTSTART:20240101T000000
END:STANDARD
END:VTIMEZONE
BEGIN:VEVENT
DTSTART;TZID=America/Sao_Paulo:20250720T080000
DTEND;TZID=America/Sao_Paulo:20250720T090000
DTSTAMP:20260419T093236
CREATED:20250717T085500Z
LAST-MODIFIED:20250717T085617Z
UID:1185-1752998400-1753002000@seugostoso.com.br
SUMMARY:4ª DOG DAY
DESCRIPTION:4ª DOG DAY\n\n Fuse Eventos Esportivos\n 20/07/2025\n SHOPPING PÁTIO PAULISTA: R. Treze de Maio\, 1947 – Bela Vista\, São Paulo\, SP\, Brasil\n\n\n\nAPRESENTAÇÃO \n4ª Dog Day\nFuse Eventos Esportivos\n20/07/2025\nPraça Oswaldo Cruz em frente ao Shopping Pátio Paulista\nParticipe da 4ª Dog Day Shopping Pátio Paulista\nFuse Eventos Esportivos\n20/07/2025\nShopping Pátio Paulista: R. Treze de Maio\, 1947 – Bela Vista\, São Paulo – SP\nUMA EXPERIÊNCIA CULTURAL E INESQUECÍVEL NA AVENIDA PAULISTA COM SEU MELHOR AUMIGO!\nATENÇÃO: vagas limitadas a apenas 150 participantes! Garanta já a sua e não perca!\nPrepare-se para uma manhã de pura alegria\, cultura e muita lambeijada!\nA Dog Day\, evento exclusivo do Shopping Pátio Paulista\, convida você e seu melhor amigo de quatro patas para uma cãominhada única pela icônica Avenida Paulista. Uma experiência animada e cultural\, pensada para toda a família!\nO que esperar da Dog Day?\nPercurso Cultural de 2 km\nExplore a Avenida Paulista de um jeito novo! Acompanhados por guias especializados\, você e seu pet farão paradas estratégicas em pontos históricos\, descobrindo curiosidades e segredos da cidade. Uma verdadeira aula a céu aberto!\n\nConforto e Segurança\nO trajeto conta com dois pontos de hidratação para garantir o bem-estar de todos. A cãominhada será realizada em 5 grupos de aproximadamente 30 participantes cada\, proporcionando uma experiência mais organizada e íntima.\nSeu Kit Exclusivo Dog Day!\nCada participante inscrito receberá um kit especial para o evento\, composto por:\nMochilinha em nylon (perfeita para levar os itens do passeio!).\nCamiseta exclusiva do evento.\nNúmero de peito.\nBrindes especiais para você e seu pet!\nAo concluir a cãominhada\, a diversão continua!\nTodos os inscritos que finalizarem o percurso receberão uma linda medalha de participação como prova dessa aventura.\nE para recarregar as energias:\nUm delicioso café da manhã esperando por você!\nAproveite as ativações exclusivas na arena Dog Day.\nConcorra a sorteios especiais com prêmios incríveis!\nNão Fique de Fora! Inscreva-se já e garanta sua vaga AGORA!\nAs vagas são LIMITADAS a 150 participantes e a procura é alta!\nSeu pet merece essa aventura! 💖\n\nATENÇÃO: ACESSO RESTRITO À ARENA DA 4ª DOG DAY\n \nPara garantir segurança\, conforto e a melhor experiência a todos os participantes inscritos e seus cães\, o acesso à arena do evento será estritamente controlado.\n\nCONDIÇÃO DE ARENA\n \nSomente será permitida a entrada na arena ao participante inscrito (tutor) que estiver com o número de peito oficial do evento devidamente fixado\, acompanhado de no máximo 02 (dois) cães.\nEsta medida visa à otimização do espaço e à criação de um ambiente agradável e exclusivo para as duplas participantes da 4ª Dog Day.\nO Shopping Pátio Paulista conta com a compreensão e colaboração dos participantes para a rigorosa aplicação desta regra\, que beneficia a experiência de todos.\n\n\nATENÇÃO A INSCRIÇÃO É POR PESSOA E NÃO POR PET! \n\n• Evento: 4ª Dog Day.\n• Data do evento: 20/07/2025 (domingo).\n• Cidade: São Paulo – SP.\n• Valor da inscrição: R$ 50\,00 (cinquenta reais) + taxa de conveniência da Ticket Sports\, até o dia 17/07/2025 ou quando atingir o limite máximo de participantes. Maiores de 60 anos: 50% desconto. A inscrição do evento é por participante e não por cachorro.\n• Doação: o montante das inscrições pagas será doado ao Instituto Ampara Animal.\n• Data e horário da entrega de kits: 19/07/2025 (sábado)\, das 12h às 18h.\n• Local de entrega dos kits: Shopping Pátio Paulista (R. Treze de Maio\, 1947 – Bela Vista\, São Paulo – SP). ATENÇÃO: NÃO HAVERÁ ENTREGA DE KIT NO DIA E NEM APÓS O EVENTO.\n• Para retirar o kit do participante: é necessário apresentar o documento e identidade e o comprovante de pagamento e/ou boleto bancário de pagamento da inscrição original (estes documentos podem ser impressos ou na tela do celular). No caso de menor de idade: apresentar prévia autorização do responsável legal. Retirada de kit por terceiros: basta apresentar o comprovante de pagamento (este documento pode ser impresso ou na tela do celular).\n• Local da arena do evento: Praça Oswaldo Cruz\, em frente ao Shopping Pátio Paulista.\n• Abertura oficial da arena do evento: 8h.\n• Saída para a cãominhada: a partir das 9h.\n• Distância e percurso: 2 Km pela Avenida Paulista.\n• Observação: será permitida a entrada na arena do evento somente ao participante\, a um convidado e a até dois cachorros.\n• Encerramento do evento: 12h.\nInformações importantes\nOs canais oficiais de inscrições da 4ª Dog Day Shopping Pátio Paulista são os sites www.patioesportes.com.br e www.ticketsports.com.br\nSolicitamos que não se inscrevam nos canais que não sejam os oficiais do evento. A Fuse Eventos Esportivos não se responsabiliza por inscrições feitas nos canais não oficiais\, nos isentando de qualquer problema que venha a ocorrer.\nO evento segue as diretrizes governamentais para a sua realização e poderá ser adiado/transferido devido ao surto de COVID-19. Caso ocorra o adiamento\, os participantes serão avisados através de comunicados oficiais em nossas redes sociais e e-mail cadastrado no ato da inscrição\nDúvidas e informações\nOrganizador: Fuse Eventos Esportivos\nE-mail: fuse@fuse.com.br\nDM: @instadafuse\nRegulamento\n\nCLIQUE AQUI para acessar o regulamento completo
URL:https://seugostoso.com.br/eventos/4a-dog-day/
ATTACH;FMTTYPE=image/png:https://seugostoso.com.br/wp-content/uploads/2025/07/0TYFHAL5HLU2EE72INJSZHATMTN3NXFZEG4R34K1HPMX4OILMN.png
END:VEVENT
BEGIN:VEVENT
DTSTART;TZID=America/Sao_Paulo:20250717T080000
DTEND;TZID=America/Sao_Paulo:20250717T170000
DTSTAMP:20260419T093236
CREATED:20250717T084915Z
LAST-MODIFIED:20250717T084915Z
UID:1182-1752739200-1752771600@seugostoso.com.br
SUMMARY:WTR MIGUEL PEREIRA 2025
DESCRIPTION:RETIRADA DE KIT  \nDocumento para retirada de kit para si mesmo: \n– Apresentar documento com foto (RG\, CNH\, etc). \nDocumentos para retirada de kit para terceiros:\n\n– Termo de “Autorização de Retirada por Terceiros” preenchido e assinado pelo proprietário da inscrição.\n– Cópia impressa do documento com foto do proprietário da inscrição (RG\, CNH\, etc). \nAtenção: Clique aqui e faça o download do Termo de “Autorização de Retirada por Terceiros”. \nDocumentos para retirada de kit para menores de idade:\n\n– Termo de “Autorização para Menores” preenchido e assinado pelo responsável legal do menor. \nAtenção: Clique aqui e faça o download do Termo de “Autorização para Menores”.\n\nCronograma:\n \n16/07/2025\nLocal: Loja Vivo\nShopping Rio Sul\, 3º piso – Rua Lauro Müller\, 116 – Botafogo\, Rio de Janeiro – RJ\n14h às 21h – Entrega de Kits (todas as provas)\n\n18/07/2025\nLocal: Arena WTR – Lago Javary – R. Joaquim J Gomes – Vila Selma\, Miguel Pereira – RJ\, 26900-000\n17h às 21h – Entrega de Kits (todas as provas)\n\n\n19/07/2025\nMiguel Pereira – RJ)\nLocal: Arena WTR – Lago Javary – R. Joaquim J Gomes – Vila Selma\, Miguel Pereira – RJ\, 26900-000 \n6h30 – Arena aberta\n6h30 às 7h30 – Entrega de Kits (Trail Run Mid e Long)\n7h30 às 8h15 – Entrega de Kits (Trail Run Short)\n7h45 – Largada (Trail Run Mid e Long)*\n8h30 – Largada (Trail Run Short)*\n9h às 10h – Show\n10h às 14h – Entrega de Kits (MTB e Kids Race)\n10h às 11h30 – Premiação (Trail Run Short e Mid)**\n11h30 às 13h – Show\n13h às 14h – Premiação (Trail Run Long)**\n14h – Encerramento das atividades no sábado\n*Os horários de largada podem sofrer ajustes \n**Os horários das premiações podem sofrer ajustes de acordo com o fechamento das categorias \n\n20/07/2025\n(Miguel Pereira – RJ)\nLocal: Arena WTR – Lago Javary – R. Joaquim J Gomes – Vila Selma\, Miguel Pereira – RJ\, 26900-000 \n7h – Arena aberta\n7h às 7h45 – Entrega de Kits (MTB e Kids Race)\n8h – Largada (MTB Light e Pro)*\n9h às 9h30 – Aquecimento Kids Race (Palco de Premiação)\n9h30 às 10h30 – Kids Race\n10h30 às 12h – Show\n12h às 13h30 – Premiação (Duathlon\, MTB Light e MTB Pro)**\n14h – Encerramento da WTR Miguel Pereira\n*Os horários de largada podem sofrer ajustes \n\n**Os horários das premiações podem sofrer ajustes de acordo com o fechamento das categorias\n  \n\nACESSE O SITE OFICIAL PARA MAIS INFORMAÇÕES:  \nCLIQUE AQUI ou acesse: www.worldtrailraces.com.br
URL:https://seugostoso.com.br/eventos/wtr-miguel-pereira-2025/
ATTACH;FMTTYPE=image/png:https://seugostoso.com.br/wp-content/uploads/2025/07/8L0EITOF6ZDYUZTDOI3TEH6YXHYJSEMKDRPI9HKEL5T8JR21LU.png
END:VEVENT
END:VCALENDAR